Index of /checkResults/release/data-experiment-LATEST/SCATEData/raw-results
Name
Last modified
Size
Description
Parent Directory
-
info.dcf
05-Aug-2022 03:50
269
nebbiolo1/
05-Aug-2022 03:50
-
nebbiolo2/
17-Feb-2022 22:36
-