Index of /checkResults/release/data-experiment-LATEST/SCATEData/raw-results

[ICO]NameLast modifiedSizeDescription

[DIR]Parent Directory  -  
[   ]info.dcf24-Mar-2023 03:50 269  
[DIR]nebbiolo2/24-Mar-2023 03:50 -