Index of /checkResults/release/data-experiment-LATEST/RnBeads.rn5/raw-results

[ICO]NameLast modifiedSizeDescription

[DIR]Parent Directory  -  
[   ]info.dcf08-Dec-2023 04:52 293  
[DIR]nebbiolo2/08-Dec-2023 04:52 -