Back to Build/check report for BioC 3.18 experimental data
ABCDEFGHIJKLMNOPQ[R]STUVWXYZ

This page was generated on 2023-11-30 14:52:03 -0500 (Thu, 30 Nov 2023).

HostnameOSArch (*)R versionInstalled pkgs
nebbiolo2Linux (Ubuntu 22.04.2 LTS)x86_644.3.2 Patched (2023-11-13 r85521) -- "Eye Holes" 4685
Click on any hostname to see more info about the system (e.g. compilers)      (*) as reported by 'uname -p', except on Windows and Mac OS X

All results for package RnBeads.mm9


To the developers/maintainers of the RnBeads.mm9 package:
- Use the following Renviron settings to reproduce errors and warnings.
- If 'R CMD check' started to fail recently on the Linux builder(s) over a missing dependency, add the missing dependency to 'Suggests:' in your DESCRIPTION file. See Renviron.bioc for more information.

raw results

Package 333/429HostnameOS / ArchINSTALLBUILDCHECK
RnBeads.mm9 1.34.0  (landing page)
RnBeadsAnnotationCreator
Snapshot Date: 2023-11-30 07:30:02 -0500 (Thu, 30 Nov 2023)
git_url: https://git.bioconductor.org/packages/RnBeads.mm9
git_branch: RELEASE_3_18
git_last_commit: e3e45c7
git_last_commit_date: 2023-10-24 09:10:32 -0500 (Tue, 24 Oct 2023)
nebbiolo2Linux (Ubuntu 22.04.2 LTS) / x86_64  OK    OK    WARNINGS  UNNEEDED, same version is already published