Back to Build/check report for BioC 3.18 experimental data
ABCDEFGHIJKLMNOPQ[R]STUVWXYZ

This page was generated on 2024-02-29 14:52:02 -0500 (Thu, 29 Feb 2024).

HostnameOSArch (*)R versionInstalled pkgs
nebbiolo2Linux (Ubuntu 22.04.3 LTS)x86_644.3.2 Patched (2023-11-13 r85521) -- "Eye Holes" 4692
Click on any hostname to see more info about the system (e.g. compilers)      (*) as reported by 'uname -p', except on Windows and Mac OS X

Package 330/429HostnameOS / ArchINSTALLBUILDCHECK
RnBeads.hg19 1.34.0  (landing page)
RnBeadsAnnotationCreator
Snapshot Date: 2024-02-29 07:30:02 -0500 (Thu, 29 Feb 2024)
git_url: https://git.bioconductor.org/packages/RnBeads.hg19
git_branch: RELEASE_3_18
git_last_commit: 4d3f651
git_last_commit_date: 2023-10-24 09:10:24 -0500 (Tue, 24 Oct 2023)
nebbiolo2Linux (Ubuntu 22.04.3 LTS) / x86_64  OK    OK    WARNINGS  UNNEEDED, same version is already published

INSTALL results for RnBeads.hg19 on nebbiolo2


To the developers/maintainers of the RnBeads.hg19 package:
- Use the following Renviron settings to reproduce errors and warnings.
- If 'R CMD check' started to fail recently on the Linux builder(s) over a missing dependency, add the missing dependency to 'Suggests:' in your DESCRIPTION file. See Renviron.bioc for more information.

raw results


Summary

Package: RnBeads.hg19
Version: 1.34.0
Command: /home/biocbuild/bbs-3.18-bioc/R/bin/R CMD INSTALL RnBeads.hg19
StartedAt: 2024-02-29 10:05:52 -0500 (Thu, 29 Feb 2024)
EndedAt: 2024-02-29 10:06:00 -0500 (Thu, 29 Feb 2024)
EllapsedTime: 8.5 seconds
RetCode: 0
Status:   OK  

Command output

##############################################################################
##############################################################################
###
### Running command:
###
###   /home/biocbuild/bbs-3.18-bioc/R/bin/R CMD INSTALL RnBeads.hg19
###
##############################################################################
##############################################################################


* installing to library ‘/home/biocbuild/bbs-3.18-bioc/R/site-library’
* installing *source* package ‘RnBeads.hg19’ ...
** using staged installation
** R
** data
** inst
** byte-compile and prepare package for lazy loading
** help
*** installing help indices
** building package indices
** testing if installed package can be loaded from temporary location
** testing if installed package can be loaded from final location
** testing if installed package keeps a record of temporary installation path
* DONE (RnBeads.hg19)