Index of /checkResults/release/data-experiment-LATEST/RcisTarget.hg19.motifDBs.cisbpOnly.500bp/raw-results
Name
Last modified
Size
Description
Parent Directory
-
info.dcf
03-May-2024 03:51
341
nebbiolo1/
03-May-2024 03:51
-