Index of /checkResults/release/data-experiment-LATEST/RTCGA.methylation/raw-results
Name
Last modified
Size
Description
Parent Directory
-
info.dcf
26-Jul-2024 03:51
296
nebbiolo1/
26-Jul-2024 03:51
-