Index of /checkResults/release/data-experiment-LATEST/RTCGA.PANCAN12/raw-results
Name
Last modified
Size
Description
Parent Directory
-
info.dcf
03-May-2024 03:51
290
nebbiolo1/
03-May-2024 03:51
-