Name | Last modified | Size | Description | |
---|---|---|---|---|
Parent Directory | - | |||
buildsrc-out.txt | 29-Mar-2024 03:52 | 797 | ||
buildsrc-summary.dcf | 29-Mar-2024 03:52 | 409 | ||
checksrc-out.txt | 29-Mar-2024 03:52 | 4.9K | ||
checksrc-summary.dcf | 29-Mar-2024 03:52 | 408 | ||
install-out.txt | 29-Mar-2024 03:52 | 946 | ||
install-summary.dcf | 29-Mar-2024 03:52 | 254 | ||