Index of /checkResults/release/data-experiment-LATEST/RITANdata/raw-results
Name
Last modified
Size
Description
Parent Directory
-
info.dcf
25-May-2022 03:50
281
nebbiolo1/
25-May-2022 03:50
-