Back to Build/check report for BioC 3.13 experimental data
ABCDEFGHIJKLMNOP[Q]RSTUVWXYZ

This page was generated on 2021-09-23 16:00:12 -0400 (Thu, 23 Sep 2021).

All results for package QDNAseq.mm10

To the developers/maintainers of the QDNAseq.mm10 package:
Make sure to use the following settings in order to reproduce any error or warning you see on this page.

raw results

Package 300/406HostnameOS / ArchINSTALLBUILDCHECK
QDNAseq.mm10 1.22.0  (landing page)
Daoud Sie
Snapshot Date: 2021-09-23 09:30:06 -0400 (Thu, 23 Sep 2021)
URL: https://git.bioconductor.org/packages/QDNAseq.mm10
Branch: RELEASE_3_13
Last Commit: 4e12c81
Last Changed Date: 2021-05-19 11:53:07 -0400 (Wed, 19 May 2021)
malbec2Linux (Ubuntu 20.04.2 LTS) / x86_64  OK    OK    OK  UNNEEDED, same version is already published