Index of /checkResults/release/data-experiment-LATEST/QDNAseq.hg19/raw-results

[ICO]NameLast modifiedSizeDescription

[DIR]Parent Directory  -  
[   ]info.dcf06-Dec-2023 04:52 271  
[DIR]nebbiolo2/06-Dec-2023 04:52 -