Name | Last modified | Size | Description | |
---|---|---|---|---|
Parent Directory | - | |||
buildsrc-out.txt | 14-Jun-2024 03:51 | 1.5K | ||
buildsrc-summary.dcf | 14-Jun-2024 03:51 | 361 | ||
checksrc-out.txt | 29-May-2024 03:51 | 2.7K | ||
checksrc-summary.dcf | 29-May-2024 03:51 | 469 | ||
install-out.txt | 14-Jun-2024 03:51 | 1.0K | ||
install-summary.dcf | 14-Jun-2024 03:51 | 286 | ||