Back to Build/check report for BioC 3.18 experimental data
ABCDEFGHIJKLMNO[P]QRSTUVWXYZ

This page was generated on 2024-03-28 14:52:06 -0400 (Thu, 28 Mar 2024).

HostnameOSArch (*)R versionInstalled pkgs
nebbiolo2Linux (Ubuntu 22.04.3 LTS)x86_644.3.3 (2024-02-29) -- "Angel Food Cake" 4669
Click on any hostname to see more info about the system (e.g. compilers)      (*) as reported by 'uname -p', except on Windows and Mac OS X

Package 308/429HostnameOS / ArchINSTALLBUILDCHECK
PWMEnrich.Mmusculus.background 4.36.0  (landing page)
Diego Diez
Snapshot Date: 2024-03-28 07:30:02 -0400 (Thu, 28 Mar 2024)
git_url: https://git.bioconductor.org/packages/PWMEnrich.Mmusculus.background
git_branch: RELEASE_3_18
git_last_commit: 793d412
git_last_commit_date: 2023-10-24 09:06:43 -0400 (Tue, 24 Oct 2023)
nebbiolo2Linux (Ubuntu 22.04.3 LTS) / x86_64  OK    OK    OK  UNNEEDED, same version is already published

CHECK results for PWMEnrich.Mmusculus.background on nebbiolo2


To the developers/maintainers of the PWMEnrich.Mmusculus.background package:
- Use the following Renviron settings to reproduce errors and warnings.
- If 'R CMD check' started to fail recently on the Linux builder(s) over a missing dependency, add the missing dependency to 'Suggests:' in your DESCRIPTION file. See Renviron.bioc for more information.

raw results


Summary

Package: PWMEnrich.Mmusculus.background
Version: 4.36.0
Command: /home/biocbuild/bbs-3.18-bioc/R/bin/R CMD check --install=check:PWMEnrich.Mmusculus.background.install-out.txt --library=/home/biocbuild/bbs-3.18-bioc/R/site-library --timings PWMEnrich.Mmusculus.background_4.36.0.tar.gz
StartedAt: 2024-03-28 11:59:19 -0400 (Thu, 28 Mar 2024)
EndedAt: 2024-03-28 11:59:56 -0400 (Thu, 28 Mar 2024)
EllapsedTime: 36.7 seconds
RetCode: 0
Status:   OK  
CheckDir: PWMEnrich.Mmusculus.background.Rcheck
Warnings: 0

Command output

##############################################################################
##############################################################################
###
### Running command:
###
###   /home/biocbuild/bbs-3.18-bioc/R/bin/R CMD check --install=check:PWMEnrich.Mmusculus.background.install-out.txt --library=/home/biocbuild/bbs-3.18-bioc/R/site-library --timings PWMEnrich.Mmusculus.background_4.36.0.tar.gz
###
##############################################################################
##############################################################################


* using log directory ‘/home/biocbuild/bbs-3.18-data-experiment/meat/PWMEnrich.Mmusculus.background.Rcheck’
* using R version 4.3.3 (2024-02-29)
* using platform: x86_64-pc-linux-gnu (64-bit)
* R was compiled by
    gcc (Ubuntu 11.4.0-1ubuntu1~22.04) 11.4.0
    GNU Fortran (Ubuntu 11.4.0-1ubuntu1~22.04) 11.4.0
* running under: Ubuntu 22.04.4 LTS
* using session charset: UTF-8
* checking for file ‘PWMEnrich.Mmusculus.background/DESCRIPTION’ ... OK
* checking extension type ... Package
* this is package ‘PWMEnrich.Mmusculus.background’ version ‘4.36.0’
* checking package namespace information ... OK
* checking package dependencies ... OK
* checking if this is a source package ... OK
* checking if there is a namespace ... OK
* checking for hidden files and directories ... OK
* checking for portable file names ... OK
* checking for sufficient/correct file permissions ... OK
* checking whether package ‘PWMEnrich.Mmusculus.background’ can be installed ... OK
* checking installed package size ... NOTE
  installed size is 10.5Mb
  sub-directories of 1Mb or more:
    data  10.4Mb
* checking package directory ... OK
* checking DESCRIPTION meta-information ... OK
* checking top-level files ... OK
* checking for left-over files ... OK
* checking index information ... OK
* checking package subdirectories ... OK
* checking whether the package can be loaded ... OK
* checking whether the package can be loaded with stated dependencies ... OK
* checking whether the package can be unloaded cleanly ... OK
* checking whether the namespace can be loaded with stated dependencies ... OK
* checking whether the namespace can be unloaded cleanly ... OK
* checking loading without being on the library search path ... OK
* checking Rd files ... OK
* checking Rd metadata ... OK
* checking Rd cross-references ... OK
* checking for missing documentation entries ... OK
* checking for code/documentation mismatches ... OK
* checking Rd \usage sections ... OK
* checking Rd contents ... OK
* checking for unstated dependencies in examples ... OK
* checking contents of ‘data’ directory ... OK
* checking data for non-ASCII characters ... OK
* checking data for ASCII and uncompressed saves ... OK
* checking examples ... OK
* checking PDF version of manual ... OK
* DONE

Status: 1 NOTE
See
  ‘/home/biocbuild/bbs-3.18-data-experiment/meat/PWMEnrich.Mmusculus.background.Rcheck/00check.log’
for details.



Installation output

PWMEnrich.Mmusculus.background.Rcheck/00install.out

##############################################################################
##############################################################################
###
### Running command:
###
###   /home/biocbuild/bbs-3.18-bioc/R/bin/R CMD INSTALL PWMEnrich.Mmusculus.background
###
##############################################################################
##############################################################################


* installing to library ‘/home/biocbuild/bbs-3.18-bioc/R/site-library’
* installing *source* package ‘PWMEnrich.Mmusculus.background’ ...
** using staged installation
** data
** inst
** help
*** installing help indices
** building package indices
** testing if installed package can be loaded from temporary location
** testing if installed package can be loaded from final location
** testing if installed package keeps a record of temporary installation path
* DONE (PWMEnrich.Mmusculus.background)

Tests output


Example timings

PWMEnrich.Mmusculus.background.Rcheck/PWMEnrich.Mmusculus.background-Ex.timings

nameusersystemelapsed
PWMEnrich.Mmusculus.background-package0.7760.0440.820