Index of /checkResults/release/data-experiment-LATEST/PWMEnrich.Dmelanogaster.background/raw-results

[ICO]NameLast modifiedSizeDescription

[DIR]Parent Directory  -  
[   ]info.dcf28-Feb-2024 04:52 324  
[DIR]nebbiolo2/28-Feb-2024 04:52 -