Back to Build/check report for BioC 3.14 experimental data
ABCDEFGHIJKLMNO[P]QRSTUVWXYZ

This page was generated on 2022-01-19 14:50:21 -0500 (Wed, 19 Jan 2022).

HostnameOSArch (*)R versionInstalled pkgs
nebbiolo2Linux (Ubuntu 20.04.4 LTS)x86_644.1.2 (2021-11-01) -- "Bird Hippie" 4329
Click on any hostname to see more info about the system (e.g. compilers)      (*) as reported by 'uname -p', except on Windows and Mac OS X

All results for package PCHiCdata


To the developers/maintainers of the PCHiCdata package:
Make sure to use the following settings in order to reproduce any error or warning you see on this page.

raw results

Package 270/408HostnameOS / ArchINSTALLBUILDCHECK
PCHiCdata 1.22.1  (landing page)
Paula Freire-Pritchett
Snapshot Date: 2022-01-19 07:30:01 -0500 (Wed, 19 Jan 2022)
git_url: https://git.bioconductor.org/packages/PCHiCdata
git_branch: RELEASE_3_14
git_last_commit: 993c2ef
git_last_commit_date: 2021-11-15 14:04:59 -0500 (Mon, 15 Nov 2021)
nebbiolo2Linux (Ubuntu 20.04.4 LTS) / x86_64  OK    OK    WARNINGS  UNNEEDED, same version is already published