Index of /checkResults/release/data-experiment-LATEST/OMICsPCAdata/raw-results
Name
Last modified
Size
Description
Parent Directory
-
info.dcf
14-Jun-2024 03:51
285
nebbiolo1/
14-Jun-2024 03:51
-