Back to Build/check report for BioC 3.15 experimental data
ABCDEFGHIJKL[M]NOPQRSTUVWXYZ

This page was generated on 2022-08-16 14:50:06 -0400 (Tue, 16 Aug 2022).

HostnameOSArch (*)R versionInstalled pkgs
nebbiolo1Linux (Ubuntu 20.04.4 LTS)x86_644.2.1 (2022-06-23) -- "Funny-Looking Kid" 4365
Click on any hostname to see more info about the system (e.g. compilers)      (*) as reported by 'uname -p', except on Windows and Mac OS X

All results for package MouseThymusAgeing


To the developers/maintainers of the MouseThymusAgeing package:
Make sure to use the following settings in order to reproduce any error or warning you see on this page.

raw results

Package 241/410HostnameOS / ArchINSTALLBUILDCHECK
MouseThymusAgeing 1.4.0  (landing page)
Mike Morgan
Snapshot Date: 2022-08-16 07:30:02 -0400 (Tue, 16 Aug 2022)
git_url: https://git.bioconductor.org/packages/MouseThymusAgeing
git_branch: RELEASE_3_15
git_last_commit: 4c06672
git_last_commit_date: 2022-04-26 13:35:29 -0400 (Tue, 26 Apr 2022)
nebbiolo1Linux (Ubuntu 20.04.4 LTS) / x86_64  OK    OK    OK  UNNEEDED, same version is already published