Index of /checkResults/release/data-experiment-LATEST/MethylSeqData/raw-results
Name
Last modified
Size
Description
Parent Directory
-
info.dcf
10-Jul-2024 03:51
285
nebbiolo1/
10-Jul-2024 03:51
-