Back to Multiple platform build/check report for BioC 3.12 experimental data
ABCDEFGHIJKL[M]NOPQRSTUVWXYZ

INSTALL report for MethylAidData on malbec1

This page was generated on 2021-01-14 14:10:25 -0500 (Thu, 14 Jan 2021).

TO THE DEVELOPERS/MAINTAINERS OF THE MethylAidData PACKAGE: Please make sure to use the following settings in order to reproduce any error or warning you see on this page.
Package 224/398HostnameOS / ArchINSTALLBUILDCHECK
MethylAidData 1.22.0
M. van Iterson
Snapshot Date: 2021-01-14 09:00:17 -0500 (Thu, 14 Jan 2021)
URL: https://git.bioconductor.org/packages/MethylAidData
Branch: RELEASE_3_12
Last Commit: d71d35f
Last Changed Date: 2020-10-27 10:12:16 -0500 (Tue, 27 Oct 2020)
malbec1 Linux (Ubuntu 18.04.5 LTS) / x86_64 [ OK ] OK  OK UNNEEDED, same version exists in internal repository
nebbiolo1 Linux (Ubuntu 20.04.1 LTS) / x86_64  OK  OK  OK 

Summary

Package: MethylAidData
Version: 1.22.0
Command: /home/biocbuild/bbs-3.12-bioc/R/bin/R CMD INSTALL MethylAidData
StartedAt: 2021-01-14 10:16:14 -0500 (Thu, 14 Jan 2021)
EndedAt: 2021-01-14 10:16:47 -0500 (Thu, 14 Jan 2021)
EllapsedTime: 33.5 seconds
RetCode: 0
Status:  OK 

Command output

##############################################################################
##############################################################################
###
### Running command:
###
###   /home/biocbuild/bbs-3.12-bioc/R/bin/R CMD INSTALL MethylAidData
###
##############################################################################
##############################################################################


* installing to library ‘/home/biocbuild/bbs-3.12-bioc/R/library’
* installing *source* package ‘MethylAidData’ ...
** using staged installation
** data
** help
*** installing help indices
** building package indices
** installing vignettes
** testing if installed package can be loaded from temporary location
** testing if installed package can be loaded from final location
** testing if installed package keeps a record of temporary installation path
* DONE (MethylAidData)