Back to Multiple platform build/check report for BioC 3.12 experimental data
ABCDEFGHIJKL[M]NOPQRSTUVWXYZ

BUILD report for MetaGxPancreas on malbec1

This page was generated on 2021-01-14 14:10:25 -0500 (Thu, 14 Jan 2021).

TO THE DEVELOPERS/MAINTAINERS OF THE MetaGxPancreas PACKAGE: Please make sure to use the following settings in order to reproduce any error or warning you see on this page.
Package 222/398HostnameOS / ArchINSTALLBUILDCHECK
MetaGxPancreas 1.10.0
Michael Zon
Snapshot Date: 2021-01-14 09:00:17 -0500 (Thu, 14 Jan 2021)
URL: https://git.bioconductor.org/packages/MetaGxPancreas
Branch: RELEASE_3_12
Last Commit: 6525a6c
Last Changed Date: 2020-10-27 10:26:36 -0500 (Tue, 27 Oct 2020)
malbec1 Linux (Ubuntu 18.04.5 LTS) / x86_64  OK [ OK ] OK UNNEEDED, same version exists in internal repository
nebbiolo1 Linux (Ubuntu 20.04.1 LTS) / x86_64  OK  OK  OK 

Summary

Package: MetaGxPancreas
Version: 1.10.0
Command: /home/biocbuild/bbs-3.12-bioc/R/bin/R CMD build --keep-empty-dirs --no-resave-data MetaGxPancreas
StartedAt: 2021-01-14 11:12:48 -0500 (Thu, 14 Jan 2021)
EndedAt: 2021-01-14 11:14:15 -0500 (Thu, 14 Jan 2021)
EllapsedTime: 87.5 seconds
RetCode: 0
Status:  OK 
PackageFile: MetaGxPancreas_1.10.0.tar.gz
PackageFileSize: 16.66 KiB

Command output

##############################################################################
##############################################################################
###
### Running command:
###
###   /home/biocbuild/bbs-3.12-bioc/R/bin/R CMD build --keep-empty-dirs --no-resave-data MetaGxPancreas
###
##############################################################################
##############################################################################


* checking for file ‘MetaGxPancreas/DESCRIPTION’ ... OK
* preparing ‘MetaGxPancreas’:
* checking DESCRIPTION meta-information ... OK
* installing the package to build vignettes
* creating vignettes ... OK
* checking for LF line-endings in source and make files and shell scripts
* checking for empty or unneeded directories
* building ‘MetaGxPancreas_1.10.0.tar.gz’