Back to Build/check report for BioC 3.18 experimental data
ABCDEFGHIJKL[M]NOPQRSTUVWXYZ

This page was generated on 2024-02-22 14:52:05 -0500 (Thu, 22 Feb 2024).

HostnameOSArch (*)R versionInstalled pkgs
nebbiolo2Linux (Ubuntu 22.04.3 LTS)x86_644.3.2 Patched (2023-11-13 r85521) -- "Eye Holes" 4691
Click on any hostname to see more info about the system (e.g. compilers)      (*) as reported by 'uname -p', except on Windows and Mac OS X

All results for package MerfishData


To the developers/maintainers of the MerfishData package:
- Use the following Renviron settings to reproduce errors and warnings.
- If 'R CMD check' started to fail recently on the Linux builder(s) over a missing dependency, add the missing dependency to 'Suggests:' in your DESCRIPTION file. See Renviron.bioc for more information.

raw results

Package 229/429HostnameOS / ArchINSTALLBUILDCHECK
MerfishData 1.4.1  (landing page)
Ludwig Geistlinger
Snapshot Date: 2024-02-22 07:30:02 -0500 (Thu, 22 Feb 2024)
git_url: https://git.bioconductor.org/packages/MerfishData
git_branch: RELEASE_3_18
git_last_commit: a2aa191
git_last_commit_date: 2023-10-28 17:31:43 -0500 (Sat, 28 Oct 2023)
nebbiolo2Linux (Ubuntu 22.04.3 LTS) / x86_64  OK    OK    OK  UNNEEDED, same version is already published