Back to Multiple platform build/check report for BioC 3.12 experimental data |
|
This page was generated on 2021-01-14 14:10:34 -0500 (Thu, 14 Jan 2021).
TO THE DEVELOPERS/MAINTAINERS OF THE MSstatsBioData PACKAGE: Please make sure to use the following settings in order to reproduce any error or warning you see on this page. |
Package 246/398 | Hostname | OS / Arch | INSTALL | BUILD | CHECK | ||||||
MSstatsBioData 1.12.0 Meena Choi
| malbec1 | Linux (Ubuntu 18.04.5 LTS) / x86_64 | OK | OK | WARNINGS | ![]() | |||||
nebbiolo1 | Linux (Ubuntu 20.04.1 LTS) / x86_64 | [ OK ] | OK | WARNINGS |
Package: MSstatsBioData |
Version: 1.12.0 |
Command: /home/biocbuild/bbs-3.12-bioc/R/bin/R CMD INSTALL MSstatsBioData |
StartedAt: 2021-01-14 09:52:37 -0500 (Thu, 14 Jan 2021) |
EndedAt: 2021-01-14 09:52:51 -0500 (Thu, 14 Jan 2021) |
EllapsedTime: 14.1 seconds |
RetCode: 0 |
Status: OK |
############################################################################## ############################################################################## ### ### Running command: ### ### /home/biocbuild/bbs-3.12-bioc/R/bin/R CMD INSTALL MSstatsBioData ### ############################################################################## ############################################################################## * installing to library ‘/home/biocbuild/bbs-3.12-bioc/R/library’ * installing *source* package ‘MSstatsBioData’ ... ** using staged installation ** data *** moving datasets to lazyload DB ** inst ** help *** installing help indices ** building package indices ** installing vignettes ** testing if installed package can be loaded from temporary location ** testing if installed package can be loaded from final location ** testing if installed package keeps a record of temporary installation path * DONE (MSstatsBioData)