Index of /checkResults/release/data-experiment-LATEST/MOFAdata/raw-results
Name
Last modified
Size
Description
Parent Directory
-
info.dcf
29-Nov-2023 04:51
277
nebbiolo2/
29-Nov-2023 04:51
-