Index of /checkResults/release/data-experiment-LATEST/MMDiffBamSubset/raw-results/nebbiolo1

[ICO]NameLast modifiedSizeDescription

[DIR]Parent Directory  -  
[TXT]buildsrc-out.txt19-Jul-2024 03:51 766  
[   ]buildsrc-summary.dcf19-Jul-2024 03:51 441  
[TXT]checksrc-out.txt19-Jul-2024 03:51 3.1K 
[   ]checksrc-summary.dcf19-Jul-2024 03:51 445  
[TXT]install-out.txt19-Jul-2024 03:51 952  
[   ]install-summary.dcf19-Jul-2024 03:51 274