Back to Build/check report for BioC 3.13 experimental data
ABCDEFGHIJKL[M]NOPQRSTUVWXYZ

This page was generated on 2021-09-25 15:59:20 -0400 (Sat, 25 Sep 2021).

All results for package MAQCsubsetILM

To the developers/maintainers of the MAQCsubsetILM package:
Make sure to use the following settings in order to reproduce any error or warning you see on this page.

raw results

Package 220/406HostnameOS / ArchINSTALLBUILDCHECK
MAQCsubsetILM 1.30.0  (landing page)
Laurent Gatto
Snapshot Date: 2021-09-25 09:30:05 -0400 (Sat, 25 Sep 2021)
URL: https://git.bioconductor.org/packages/MAQCsubsetILM
Branch: RELEASE_3_13
Last Commit: bb8e755
Last Changed Date: 2021-05-19 11:28:26 -0400 (Wed, 19 May 2021)
malbec2Linux (Ubuntu 20.04.2 LTS) / x86_64  OK    OK    OK  UNNEEDED, same version is already published