Name | Last modified | Size | Description | |
---|---|---|---|---|
Parent Directory | - | |||
buildsrc-out.txt | 29-Mar-2024 03:52 | 829 | ||
buildsrc-summary.dcf | 29-Mar-2024 03:52 | 441 | ||
checksrc-out.txt | 29-Mar-2024 03:52 | 3.3K | ||
checksrc-summary.dcf | 29-Mar-2024 03:52 | 452 | ||
install-out.txt | 29-Mar-2024 03:52 | 926 | ||
install-summary.dcf | 29-Mar-2024 03:52 | 275 | ||