Name | Last modified | Size | Description | |
---|---|---|---|---|
Parent Directory | - | |||
checksrc-out.txt | 26-Jul-2024 03:51 | 3.5K | ||
install-summary.dcf | 26-Jul-2024 03:51 | 275 | ||
install-out.txt | 26-Jul-2024 03:51 | 926 | ||
checksrc-summary.dcf | 26-Jul-2024 03:51 | 452 | ||
buildsrc-summary.dcf | 26-Jul-2024 03:51 | 441 | ||
buildsrc-out.txt | 26-Jul-2024 03:51 | 829 | ||