Index of /checkResults/release/data-experiment-LATEST/LiebermanAidenHiC2009/raw-results
Name
Last modified
Size
Description
Parent Directory
-
info.dcf
29-Mar-2024 03:52
292
nebbiolo2/
29-Mar-2024 03:52
-