Back to Multiple platform build/check report for BioC 3.12 experimental data |
|
This page was generated on 2021-01-14 14:10:33 -0500 (Thu, 14 Jan 2021).
TO THE DEVELOPERS/MAINTAINERS OF THE LiebermanAidenHiC2009 PACKAGE: Please make sure to use the following settings in order to reproduce any error or warning you see on this page. |
Package 201/398 | Hostname | OS / Arch | INSTALL | BUILD | CHECK | ||||||
LiebermanAidenHiC2009 0.28.0 Felix Klein
| malbec1 | Linux (Ubuntu 18.04.5 LTS) / x86_64 | OK | OK | WARNINGS | ![]() | |||||
nebbiolo1 | Linux (Ubuntu 20.04.1 LTS) / x86_64 | [ OK ] | OK | WARNINGS |
Package: LiebermanAidenHiC2009 |
Version: 0.28.0 |
Command: /home/biocbuild/bbs-3.12-bioc/R/bin/R CMD INSTALL LiebermanAidenHiC2009 |
StartedAt: 2021-01-14 10:04:29 -0500 (Thu, 14 Jan 2021) |
EndedAt: 2021-01-14 10:04:43 -0500 (Thu, 14 Jan 2021) |
EllapsedTime: 13.7 seconds |
RetCode: 0 |
Status: OK |
############################################################################## ############################################################################## ### ### Running command: ### ### /home/biocbuild/bbs-3.12-bioc/R/bin/R CMD INSTALL LiebermanAidenHiC2009 ### ############################################################################## ############################################################################## * installing to library ‘/home/biocbuild/bbs-3.12-bioc/R/library’ * installing *source* package ‘LiebermanAidenHiC2009’ ... ** using staged installation ** data ** inst ** help No man pages found in package ‘LiebermanAidenHiC2009’ *** installing help indices ** building package indices ** installing vignettes ** testing if installed package can be loaded from temporary location ** testing if installed package can be loaded from final location ** testing if installed package keeps a record of temporary installation path * DONE (LiebermanAidenHiC2009)