Back to Multiple platform build/check report for BioC 3.12 experimental data |
|
This page was generated on 2021-01-14 14:10:33 -0500 (Thu, 14 Jan 2021).
TO THE DEVELOPERS/MAINTAINERS OF THE LiebermanAidenHiC2009 PACKAGE: Please make sure to use the following settings in order to reproduce any error or warning you see on this page. |
Package 201/398 | Hostname | OS / Arch | INSTALL | BUILD | CHECK | ||||||
LiebermanAidenHiC2009 0.28.0 Felix Klein
| malbec1 | Linux (Ubuntu 18.04.5 LTS) / x86_64 | OK | OK | WARNINGS | ![]() | |||||
nebbiolo1 | Linux (Ubuntu 20.04.1 LTS) / x86_64 | OK | [ OK ] | WARNINGS |
Package: LiebermanAidenHiC2009 |
Version: 0.28.0 |
Command: /home/biocbuild/bbs-3.12-bioc/R/bin/R CMD build --keep-empty-dirs --no-resave-data LiebermanAidenHiC2009 |
StartedAt: 2021-01-14 10:29:08 -0500 (Thu, 14 Jan 2021) |
EndedAt: 2021-01-14 10:30:05 -0500 (Thu, 14 Jan 2021) |
EllapsedTime: 56.9 seconds |
RetCode: 0 |
Status: OK |
PackageFile: LiebermanAidenHiC2009_0.28.0.tar.gz |
PackageFileSize: 10.16 MiB |
############################################################################## ############################################################################## ### ### Running command: ### ### /home/biocbuild/bbs-3.12-bioc/R/bin/R CMD build --keep-empty-dirs --no-resave-data LiebermanAidenHiC2009 ### ############################################################################## ############################################################################## * checking for file ‘LiebermanAidenHiC2009/DESCRIPTION’ ... OK * preparing ‘LiebermanAidenHiC2009’: * checking DESCRIPTION meta-information ... OK * installing the package to build vignettes * creating vignettes ... OK * checking for LF line-endings in source and make files and shell scripts * checking for empty or unneeded directories * looking to see if a ‘data/datalist’ file should be added * building ‘LiebermanAidenHiC2009_0.28.0.tar.gz’