Index of /checkResults/release/data-experiment-LATEST/KEGGdzPathwaysGEO/raw-results

[ICO]NameLast modifiedSizeDescription

[DIR]Parent Directory  -  
[   ]info.dcf25-May-2022 03:50 293  
[DIR]nebbiolo1/25-May-2022 03:50 -  
[DIR]nebbiolo2/17-Feb-2022 22:36 -