Index of /checkResults/release/data-experiment-LATEST/KEGGandMetacoreDzPathwaysGEO/raw-results
Name
Last modified
Size
Description
Parent Directory
-
nebbiolo1/
14-Jun-2024 03:51
-
info.dcf
14-Jun-2024 03:51
315