Back to Build/check report for BioC 3.13 experimental data
ABCDEFGHI[J]KLMNOPQRSTUVWXYZ

This page was generated on 2021-09-25 15:59:20 -0400 (Sat, 25 Sep 2021).

All results for package JctSeqData

To the developers/maintainers of the JctSeqData package:
Make sure to use the following settings in order to reproduce any error or warning you see on this page.

raw results

Package 197/406HostnameOS / ArchINSTALLBUILDCHECK
JctSeqData 1.22.0  (landing page)
Stephen Hartley
Snapshot Date: 2021-09-25 09:30:05 -0400 (Sat, 25 Sep 2021)
URL: https://git.bioconductor.org/packages/JctSeqData
Branch: RELEASE_3_13
Last Commit: 3ab0ec2
Last Changed Date: 2021-05-19 11:54:08 -0400 (Wed, 19 May 2021)
malbec2Linux (Ubuntu 20.04.2 LTS) / x86_64  OK    OK    ERROR