Back to Build/check report for BioC 3.18 experimental data
ABCDEFGHI[J]KLMNOPQRSTUVWXYZ

This page was generated on 2023-12-05 14:52:00 -0500 (Tue, 05 Dec 2023).

HostnameOSArch (*)R versionInstalled pkgs
nebbiolo2Linux (Ubuntu 22.04.2 LTS)x86_644.3.2 Patched (2023-11-13 r85521) -- "Eye Holes" 4688
Click on any hostname to see more info about the system (e.g. compilers)      (*) as reported by 'uname -p', except on Windows and Mac OS X

All results for package JASPAR2014


To the developers/maintainers of the JASPAR2014 package:
- Use the following Renviron settings to reproduce errors and warnings.
- If 'R CMD check' started to fail recently on the Linux builder(s) over a missing dependency, add the missing dependency to 'Suggests:' in your DESCRIPTION file. See Renviron.bioc for more information.

raw results

Package 200/429HostnameOS / ArchINSTALLBUILDCHECK
JASPAR2014 1.38.0  (landing page)
Ge Tan
Snapshot Date: 2023-12-05 07:30:01 -0500 (Tue, 05 Dec 2023)
git_url: https://git.bioconductor.org/packages/JASPAR2014
git_branch: RELEASE_3_18
git_last_commit: a29c998
git_last_commit_date: 2023-10-24 09:06:47 -0500 (Tue, 24 Oct 2023)
nebbiolo2Linux (Ubuntu 22.04.2 LTS) / x86_64  OK    OK    WARNINGS  UNNEEDED, same version is already published