Back to Multiple platform build/check report for BioC 3.12 experimental data
ABCDEFG[H]IJKLMNOPQRSTUVWXYZ

Multiple platform build/check report for BioC 3.12 experimental data

Results for package Hiiragi2013

This page was generated on 2021-03-01 14:09:54 -0500 (Mon, 01 Mar 2021).

Package 179/398HostnameOS / ArchINSTALLBUILDCHECK
Hiiragi2013 1.26.0
Andrzej Oles
Snapshot Date: 2021-03-01 09:00:10 -0500 (Mon, 01 Mar 2021)
URL: https://git.bioconductor.org/packages/Hiiragi2013
Branch: RELEASE_3_12
Last Commit: a962879
Last Changed Date: 2020-10-27 10:01:36 -0500 (Tue, 27 Oct 2020)
malbec1Linux (Ubuntu 18.04.5 LTS) / x86_64  OK    OK    OK  UNNEEDED, same version exists in internal repository
nebbiolo1Linux (Ubuntu 20.04.2 LTS) / x86_64  OK    NA    NA