Index of /checkResults/release/data-experiment-LATEST/HiCDataLymphoblast/raw-results/nebbiolo1

[ICO]NameLast modifiedSizeDescription

[DIR]Parent Directory  -  
[   ]install-summary.dcf17-Jul-2024 03:51 280  
[   ]buildsrc-summary.dcf17-Jul-2024 03:51 450  
[   ]checksrc-summary.dcf17-Jul-2024 03:51 457  
[TXT]buildsrc-out.txt17-Jul-2024 03:51 850  
[TXT]install-out.txt17-Jul-2024 03:51 1.0K 
[TXT]checksrc-out.txt17-Jul-2024 03:51 2.6K