Back to Build/check report for BioC 3.18 experimental data
ABCDEFG[H]IJKLMNOPQRSTUVWXYZ

This page was generated on 2024-02-22 14:52:05 -0500 (Thu, 22 Feb 2024).

HostnameOSArch (*)R versionInstalled pkgs
nebbiolo2Linux (Ubuntu 22.04.3 LTS)x86_644.3.2 Patched (2023-11-13 r85521) -- "Eye Holes" 4691
Click on any hostname to see more info about the system (e.g. compilers)      (*) as reported by 'uname -p', except on Windows and Mac OS X

All results for package HiBED


To the developers/maintainers of the HiBED package:
- Use the following Renviron settings to reproduce errors and warnings.
- If 'R CMD check' started to fail recently on the Linux builder(s) over a missing dependency, add the missing dependency to 'Suggests:' in your DESCRIPTION file. See Renviron.bioc for more information.

raw results

Package 182/429HostnameOS / ArchINSTALLBUILDCHECK
HiBED 1.0.0  (landing page)
Ze Zhang
Snapshot Date: 2024-02-22 07:30:02 -0500 (Thu, 22 Feb 2024)
git_url: https://git.bioconductor.org/packages/HiBED
git_branch: RELEASE_3_18
git_last_commit: d40c2bc
git_last_commit_date: 2023-10-24 09:24:35 -0500 (Tue, 24 Oct 2023)
nebbiolo2Linux (Ubuntu 22.04.3 LTS) / x86_64  OK    OK    OK  UNNEEDED, same version is already published