Back to Multiple platform build/check report for BioC 3.12 experimental data
ABCDEFG[H]IJKLMNOPQRSTUVWXYZ

Multiple platform build/check report for BioC 3.12 experimental data

Results for HMP16SData

This page was generated on 2021-01-18 14:10:16 -0500 (Mon, 18 Jan 2021).

Package 181/398HostnameOS / ArchINSTALLBUILDCHECK
HMP16SData 1.10.0
Lucas Schiffer
Snapshot Date: 2021-01-18 09:00:16 -0500 (Mon, 18 Jan 2021)
URL: https://git.bioconductor.org/packages/HMP16SData
Branch: RELEASE_3_12
Last Commit: c37993e
Last Changed Date: 2020-10-27 10:24:33 -0500 (Tue, 27 Oct 2020)
malbec1 Linux (Ubuntu 18.04.5 LTS) / x86_64  OK  OK  OK UNNEEDED, same version exists in internal repository
nebbiolo1 Linux (Ubuntu 20.04.1 LTS) / x86_64  OK  OK  OK