Back to Multiple platform build/check report for BioC 3.12 experimental data
ABCDEFG[H]IJKLMNOPQRSTUVWXYZ

Multiple platform build/check report for BioC 3.12 experimental data

Results for package HD2013SGI

This page was generated on 2021-02-25 14:11:34 -0500 (Thu, 25 Feb 2021).

Package 167/398HostnameOS / ArchINSTALLBUILDCHECK
HD2013SGI 1.30.0
Bernd Fischer
Snapshot Date: 2021-02-25 09:00:14 -0500 (Thu, 25 Feb 2021)
URL: https://git.bioconductor.org/packages/HD2013SGI
Branch: RELEASE_3_12
Last Commit: 119ea3a
Last Changed Date: 2020-10-27 10:01:22 -0500 (Tue, 27 Oct 2020)
malbec1Linux (Ubuntu 18.04.5 LTS) / x86_64  OK    OK    OK  UNNEEDED, same version exists in internal repository
nebbiolo1Linux (Ubuntu 20.04.2 LTS) / x86_64  OK    OK    OK