Index of /checkResults/release/data-experiment-LATEST/GSE62944/raw-results
Name
Last modified
Size
Description
Parent Directory
-
nebbiolo2/
27-Mar-2024 03:51
-
info.dcf
27-Mar-2024 03:51
299