Index of /checkResults/release/data-experiment-LATEST/GSE62944/raw-results

[ICO]NameLast modifiedSizeDescription

[DIR]Parent Directory  -  
[   ]info.dcf17-Mar-2023 03:50 299  
[DIR]nebbiolo2/17-Mar-2023 03:50 -