Back to Build/check report for BioC 3.16 experimental data
ABCDEF[G]HIJKLMNOPQRSTUVWXYZ

This page was generated on 2023-01-26 14:50:32 -0500 (Thu, 26 Jan 2023).

HostnameOSArch (*)R versionInstalled pkgs
nebbiolo2Linux (Ubuntu 20.04.5 LTS)x86_644.2.2 (2022-10-31) -- "Innocent and Trusting" 4508
Click on any hostname to see more info about the system (e.g. compilers)      (*) as reported by 'uname -p', except on Windows and Mac OS X

All results for package GSE62944


To the developers/maintainers of the GSE62944 package:
Make sure to use the following settings in order to reproduce any error or warning you see on this page.

raw results

Package 153/416HostnameOS / ArchINSTALLBUILDCHECK
GSE62944 1.26.0  (landing page)
Bioconductor Package Maintainer
Snapshot Date: 2023-01-26 07:30:02 -0500 (Thu, 26 Jan 2023)
git_url: https://git.bioconductor.org/packages/GSE62944
git_branch: RELEASE_3_16
git_last_commit: 5a27b7f
git_last_commit_date: 2022-11-01 11:11:18 -0500 (Tue, 01 Nov 2022)
nebbiolo2Linux (Ubuntu 20.04.5 LTS) / x86_64  OK    OK    OK  UNNEEDED, same version is already published