Index of /checkResults/release/data-experiment-LATEST/Fletcher2013b/raw-results/nebbiolo1

[ICO]NameLast modifiedSizeDescription

[DIR]Parent Directory  -  
[   ]install-summary.dcf19-Jul-2024 03:51 271  
[   ]buildsrc-summary.dcf19-Jul-2024 03:51 435  
[   ]checksrc-summary.dcf19-Jul-2024 03:51 444  
[TXT]buildsrc-out.txt19-Jul-2024 03:51 893  
[TXT]install-out.txt19-Jul-2024 03:51 1.0K 
[TXT]checksrc-out.txt19-Jul-2024 03:51 3.9K