Index of /checkResults/release/data-experiment-LATEST/EatonEtAlChIPseq/raw-results
Name
Last modified
Size
Description
Parent Directory
-
info.dcf
27-Sep-2023 03:51
290
nebbiolo1/
27-Sep-2023 03:51
-