Back to Build/check report for BioC 3.18 experimental data
ABCD[E]FGHIJKLMNOPQRSTUVWXYZ

This page was generated on 2024-03-28 14:52:05 -0400 (Thu, 28 Mar 2024).

HostnameOSArch (*)R versionInstalled pkgs
nebbiolo2Linux (Ubuntu 22.04.3 LTS)x86_644.3.3 (2024-02-29) -- "Angel Food Cake" 4669
Click on any hostname to see more info about the system (e.g. compilers)      (*) as reported by 'uname -p', except on Windows and Mac OS X

Package 109/429HostnameOS / ArchINSTALLBUILDCHECK
EatonEtAlChIPseq 0.40.0  (landing page)
Patrick Aboyoun
Snapshot Date: 2024-03-28 07:30:02 -0400 (Thu, 28 Mar 2024)
git_url: https://git.bioconductor.org/packages/EatonEtAlChIPseq
git_branch: RELEASE_3_18
git_last_commit: 9750f41
git_last_commit_date: 2023-10-24 08:56:25 -0400 (Tue, 24 Oct 2023)
nebbiolo2Linux (Ubuntu 22.04.3 LTS) / x86_64  OK    OK    WARNINGS  UNNEEDED, same version is already published

INSTALL results for EatonEtAlChIPseq on nebbiolo2


To the developers/maintainers of the EatonEtAlChIPseq package:
- Use the following Renviron settings to reproduce errors and warnings.
- If 'R CMD check' started to fail recently on the Linux builder(s) over a missing dependency, add the missing dependency to 'Suggests:' in your DESCRIPTION file. See Renviron.bioc for more information.

raw results


Summary

Package: EatonEtAlChIPseq
Version: 0.40.0
Command: /home/biocbuild/bbs-3.18-bioc/R/bin/R CMD INSTALL EatonEtAlChIPseq
StartedAt: 2024-03-28 10:08:59 -0400 (Thu, 28 Mar 2024)
EndedAt: 2024-03-28 10:09:19 -0400 (Thu, 28 Mar 2024)
EllapsedTime: 19.4 seconds
RetCode: 0
Status:   OK  

Command output

##############################################################################
##############################################################################
###
### Running command:
###
###   /home/biocbuild/bbs-3.18-bioc/R/bin/R CMD INSTALL EatonEtAlChIPseq
###
##############################################################################
##############################################################################


* installing to library ‘/home/biocbuild/bbs-3.18-bioc/R/site-library’
* installing *source* package ‘EatonEtAlChIPseq’ ...
** using staged installation
** data
** inst
** help
*** installing help indices
** building package indices
** testing if installed package can be loaded from temporary location
** testing if installed package can be loaded from final location
** testing if installed package keeps a record of temporary installation path
* DONE (EatonEtAlChIPseq)