Back to Build/check report for BioC 3.16 experimental data
ABC[D]EFGHIJKLMNOPQRSTUVWXYZ

This page was generated on 2023-01-31 14:50:29 -0500 (Tue, 31 Jan 2023).

HostnameOSArch (*)R versionInstalled pkgs
nebbiolo2Linux (Ubuntu 20.04.5 LTS)x86_644.2.2 (2022-10-31) -- "Innocent and Trusting" 4510
Click on any hostname to see more info about the system (e.g. compilers)      (*) as reported by 'uname -p', except on Windows and Mac OS X

All results for package DuoClustering2018


To the developers/maintainers of the DuoClustering2018 package:
Make sure to use the following settings in order to reproduce any error or warning you see on this page.

raw results

Package 103/416HostnameOS / ArchINSTALLBUILDCHECK
DuoClustering2018 1.16.0  (landing page)
Angelo Duò
Snapshot Date: 2023-01-31 07:30:01 -0500 (Tue, 31 Jan 2023)
git_url: https://git.bioconductor.org/packages/DuoClustering2018
git_branch: RELEASE_3_16
git_last_commit: 509ec27
git_last_commit_date: 2022-11-01 11:19:26 -0500 (Tue, 01 Nov 2022)
nebbiolo2Linux (Ubuntu 20.04.5 LTS) / x86_64  OK    OK    OK  UNNEEDED, same version is already published