Index of /checkResults/release/data-experiment-LATEST/DNAZooData/raw-results/nebbiolo1

[ICO]NameLast modifiedSizeDescription

[DIR]Parent Directory  -  
[TXT]buildsrc-out.txt14-Jun-2024 03:51 857  
[   ]buildsrc-summary.dcf14-Jun-2024 03:51 424  
[TXT]checksrc-out.txt14-Jun-2024 03:51 3.1K 
[   ]checksrc-summary.dcf14-Jun-2024 03:51 424  
[TXT]install-out.txt14-Jun-2024 03:51 961  
[   ]install-summary.dcf14-Jun-2024 03:51 264