Back to Build/check report for BioC 3.14 experimental data
ABC[D]EFGHIJKLMNOPQRSTUVWXYZ

This page was generated on 2022-01-19 14:50:22 -0500 (Wed, 19 Jan 2022).

HostnameOSArch (*)R versionInstalled pkgs
nebbiolo2Linux (Ubuntu 20.04.4 LTS)x86_644.1.2 (2021-11-01) -- "Bird Hippie" 4329
Click on any hostname to see more info about the system (e.g. compilers)      (*) as reported by 'uname -p', except on Windows and Mac OS X

BUILD results for DExMAdata on nebbiolo2


To the developers/maintainers of the DExMAdata package:
Make sure to use the following settings in order to reproduce any error or warning you see on this page.

raw results

Package 92/408HostnameOS / ArchINSTALLBUILDCHECK
DExMAdata 1.2.0  (landing page)
Juan Antonio Villatoro-García
Snapshot Date: 2022-01-19 07:30:01 -0500 (Wed, 19 Jan 2022)
git_url: https://git.bioconductor.org/packages/DExMAdata
git_branch: RELEASE_3_14
git_last_commit: 4e6d022
git_last_commit_date: 2021-10-26 12:40:59 -0500 (Tue, 26 Oct 2021)
nebbiolo2Linux (Ubuntu 20.04.4 LTS) / x86_64  OK    OK    OK  UNNEEDED, same version is already published

Summary

Package: DExMAdata
Version: 1.2.0
Command: /home/biocbuild/bbs-3.14-bioc/R/bin/R CMD build --keep-empty-dirs --no-resave-data DExMAdata
StartedAt: 2022-01-19 10:21:41 -0500 (Wed, 19 Jan 2022)
EndedAt: 2022-01-19 10:22:28 -0500 (Wed, 19 Jan 2022)
EllapsedTime: 47.4 seconds
RetCode: 0
Status:   OK  
PackageFile: DExMAdata_1.2.0.tar.gz
PackageFileSize: 7.382 MiB

Command output

##############################################################################
##############################################################################
###
### Running command:
###
###   /home/biocbuild/bbs-3.14-bioc/R/bin/R CMD build --keep-empty-dirs --no-resave-data DExMAdata
###
##############################################################################
##############################################################################


* checking for file ‘DExMAdata/DESCRIPTION’ ... OK
* preparing ‘DExMAdata’:
* checking DESCRIPTION meta-information ... OK
* installing the package to build vignettes
* creating vignettes ... OK
* checking for LF line-endings in source and make files and shell scripts
* checking for empty or unneeded directories
* building ‘DExMAdata_1.2.0.tar.gz’