Back to Build/check report for BioC 3.18 experimental data
ABC[D]EFGHIJKLMNOPQRSTUVWXYZ

This page was generated on 2024-02-27 14:52:00 -0500 (Tue, 27 Feb 2024).

HostnameOSArch (*)R versionInstalled pkgs
nebbiolo2Linux (Ubuntu 22.04.3 LTS)x86_644.3.2 Patched (2023-11-13 r85521) -- "Eye Holes" 4691
Click on any hostname to see more info about the system (e.g. compilers)      (*) as reported by 'uname -p', except on Windows and Mac OS X

Package 88/429HostnameOS / ArchINSTALLBUILDCHECK
DAPARdata 1.32.1  (landing page)
Samuel Wieczorek
Snapshot Date: 2024-02-27 07:30:01 -0500 (Tue, 27 Feb 2024)
git_url: https://git.bioconductor.org/packages/DAPARdata
git_branch: RELEASE_3_18
git_last_commit: 90e2022
git_last_commit_date: 2024-01-14 09:59:09 -0500 (Sun, 14 Jan 2024)
nebbiolo2Linux (Ubuntu 22.04.3 LTS) / x86_64  OK    OK    WARNINGS  UNNEEDED, same version is already published

BUILD results for DAPARdata on nebbiolo2


To the developers/maintainers of the DAPARdata package:
- Use the following Renviron settings to reproduce errors and warnings.
- If 'R CMD check' started to fail recently on the Linux builder(s) over a missing dependency, add the missing dependency to 'Suggests:' in your DESCRIPTION file. See Renviron.bioc for more information.

raw results


Summary

Package: DAPARdata
Version: 1.32.1
Command: /home/biocbuild/bbs-3.18-bioc/R/bin/R CMD build --keep-empty-dirs --no-resave-data DAPARdata
StartedAt: 2024-02-27 10:22:17 -0500 (Tue, 27 Feb 2024)
EndedAt: 2024-02-27 10:22:40 -0500 (Tue, 27 Feb 2024)
EllapsedTime: 22.8 seconds
RetCode: 0
Status:   OK  
PackageFile: DAPARdata_1.32.1.tar.gz
PackageFileSize: 33.35 MiB

Command output

##############################################################################
##############################################################################
###
### Running command:
###
###   /home/biocbuild/bbs-3.18-bioc/R/bin/R CMD build --keep-empty-dirs --no-resave-data DAPARdata
###
##############################################################################
##############################################################################


* checking for file ‘DAPARdata/DESCRIPTION’ ... OK
* preparing ‘DAPARdata’:
* checking DESCRIPTION meta-information ... OK
* installing the package to build vignettes
* creating vignettes ... OK
* checking for LF line-endings in source and make files and shell scripts
* checking for empty or unneeded directories
* looking to see if a ‘data/datalist’ file should be added
* building ‘DAPARdata_1.32.1.tar.gz’